Workbook

Sheet Інформація про проєкт
D3: БЮДЖЕТ ПРОЄКТУ
B5: Назва та тип проєкту
B6: Кількість учасників
B7: Кількість експертів
B8: Кількість організаторів
B9: Місце проведення
B10: Тривалість проєкту та/або дати заходів, активностей
B11: Контактна особа партнера (тел.)
B13: курс євро - грн | C13: 50.2 | D13: заповнити вручну (курс НБУ на дату заповнення)
B14: Внесок ФНФ, євро | C14: =Проєкт!G8+Проєкт!G14+Проєкт!G21+Проєкт!G26+Проєкт!G29+Проєкт!G35+Проєкт!G40+Проєкт!G45+Проєкт!G50+Проєкт!G56+Проєкт!G61 -> 803.7978 | D14: автоматичний підтрахунок
B15: Внесок партнера, євро | C15: =Проєкт!H8+Проєкт!H14+Проєкт!H21+Проєкт!H26+Проєкт!H29+Проєкт!H50+Проєкт!H35+Проєкт!H40+Проєкт!H45+Проєкт!H56+Проєкт!H61 -> 400 | D15: автоматичний підтрахунок
B16: ЗАГАЛЬНИЙ БЮДЖЕТ, євро | C16: =C14+C15 -> 1203.7978 | D16: автоматичний підтрахунок

Sheet Проєкт
A1: Назва витрати | C1: Дні | D1: К-ть | E1: Ціна | F1: Сума, грн | G1: Сума, євро | H1: Внесок партнера, євро | I1: Примітки
A2: КОМАНДА ПРОЄКТУ
A3: Винагорода (співробітники, фізичні особи за договором ЦПХ)
A4: Координація проєкту | C4: 1 | D4: 1 | E4: 6000 | F4: =(E4*D4*C4)/(1-18%-5%)*(1+22%) -> 9506.4935 | G4: =F4/'Інформація про проєкт'!C$13 -> 189.37238 | I4: !!! Сума в грн включає податки
A5: Комунікаційна підтримка | F5: =(E5*D5*C5)/(1-18%-5%)*(1+22%) -> 0 | G5: =F5/'Інформація про проєкт'!C$13 -> 0 | I5: !!! Додати опис послуг в примітки
A6: Аналітик 1 | F6: =(E6*D6*C6)/(1-18%-5%)*(1+22%) -> 0 | G6: =F6/'Інформація про проєкт'!C$13 -> 0
A7: Експертка 1 | F7: =(E7*D7*C7)/(1-18%-5%)*(1+22%) -> 0 | G7: =F7/'Інформація про проєкт'!C$13 -> 0 | H7: 50
A8: Всього | F8: =SUM(F4:F7) -> 9506.4935 | G8: =F8/'Інформація про проєкт'!C$13 -> 189.37238 | H8: =SUM(H4:H7) -> 50
A9: Гонорари (ФОП 3 група)
A10: Координація проєкту | D10: 1 | F10: =E10*D10 -> 0 | G10: =F10/'Інформація про проєкт'!C$13 -> 0
A11: Комунікаційна підтримка | F11: =E11*D11 -> 0 | G11: =F11/'Інформація про проєкт'!C$13 -> 0
A12: Аналітик 1 | F12: =E12*D12 -> 0 | G12: =F12/'Інформація про проєкт'!C$13 -> 0
A13: Експертка 1 | F13: =E13*D13 -> 0 | G13: =F13/'Інформація про проєкт'!C$13 -> 0
A14: Всього | F14: =SUM(F10:F13) -> 0 | G14: =F14/'Інформація про проєкт'!C$13 -> 0 | H14: =SUM(H10:H13) -> 0
A16: ПУБЛІКАЦІЯ (відео, статті, аналітика, цифровий або друкований продукт)
A17: Послуги ФОП
A18: Дизайн, макетування | F18: =E18*D18 -> 0 | G18: =F18/'Інформація про проєкт'!C$13 -> 0
A19: Авторка 1 | F19: =E19*D19 -> 0 | G19: =F19/'Інформація про проєкт'!C$13 -> 0
A20: Експертка 1 | F20: =E20*D20 -> 0 | G20: =F20/'Інформація про проєкт'!C$13 -> 0
A21: Всього | F21: =SUM(F18:F20) -> 0 | G21: =F21/'Інформація про проєкт'!C$13 -> 0 | H21: =SUM(H18:H20) -> 0
A22: Матеріали
A23: Друковані матеріали | F23: =E23*D23 -> 0 | G23: =F23/'Інформація про проєкт'!C$13 -> 0 | H23: 50
A24: Сертифікати | F24: =E24*D24 -> 0 | G24: =F24/'Інформація про проєкт'!C$13 -> 0
A25: Матеріали | F25: =E25*D25 -> 0 | G25: =F25/'Інформація про проєкт'!C$13 -> 0
A26: Всього | F26: =SUM(F23:F25) -> 0 | G26: =F26/'Інформація про проєкт'!C$13 -> 0 | H26: =SUM(H23:H25) -> 50
A27: Інші витрати
A28: Специфічні витрати | F28: =E28*D28 -> 0 | G28: =F28/'Інформація про проєкт'!C$13 -> 0
A29: Всього | F29: =SUM(F28:F28) -> 0 | G29: =SUM(G28:G28) -> 0 | H29: =SUM(H28:H28) -> 0
A31: ЗАХІД / СЕРІЯ ЗАХОДІВ В РАМКАХ ПРОЄКТУ
A32: Проживання
A33: Учасники (дати, тип номерів) | F33: =E33*D33*C33 -> 0 | G33: =F33/'Інформація про проєкт'!C$13 -> 0 | H33: 0
A34: Експерти, модератори, організатори (дати, тип номерів) | F34: =E34*D34*C34 -> 0 | G34: =F34/'Інформація про проєкт'!C$13 -> 0
A35: Всього | F35: =SUM(F33:F34) -> 0 | G35: =SUM(G33:G34) -> 0 | H35: =SUM(H33:H34) -> 0
A37: Харчування
A38: Харчування учасники та організатори (дати) | F38: =E38*D38*C38 -> 0 | G38: =F38/'Інформація про проєкт'!C$13 -> 0
A39: Кава паузи (дати) | F39: =E39*D39*C39 -> 0 | G39: =F39/'Інформація про проєкт'!C$13 -> 0
A40: Всього | F40: =SUM(F38:F39) -> 0 | G40: =F40/'Інформація про проєкт'!C$13 -> 0 | H40: =SUM(H38:H39) -> 0
A42: Зала
A43: Оренда зали (дати) | F43: =E43*D43*C43 -> 0 | G43: =F43/'Інформація про проєкт'!C$13 -> 0
A44: Оренда обладнання (дати) | F44: =E44*D44*C44 -> 0 | G44: =F44/'Інформація про проєкт'!C$13 -> 0
A45: Всього | F45: =SUM(F43:F44) -> 0 | G45: =SUM(G43:G44) -> 0 | H45: =SUM(H43:H44) -> 0
A47: Транспорт
A48: Проїзд експерта 1 (дати) | C48: 1 | D48: 2 | E48: 2500 | F48: =E48*D48*C48 -> 5000 | G48: =F48/'Інформація про проєкт'!C$13 -> 99.601594
A49: Проїзд організаторів (дати) | F49: =E49*D49*C49 -> 0 | G49: =F49/'Інформація про проєкт'!C$13 -> 0
A50: Всього | F50: =SUM(F48:F49) -> 5000 | G50: =SUM(G48:G49) -> 99.601594 | H50: =SUM(H48:H49) -> 0
A52: Гонорари (фізичні особи, за договором ЦПХ)
A53: Модератор, дати | C53: 2 | D53: 1 | E53: 5000 | F53: =(E53*D53*C53)/(1-18%-5%)*(1+22%) -> 15844.156 | G53: =F53/'Інформація про проєкт'!C$13 -> 315.62063 | H53: 100 | I53: !!! Сума в грн включає податки
A54: Експертка 1, дати | F54: =(E54*D54)*1.5 -> 0 | G54: =F54/'Інформація про проєкт'!C$13 -> 0
A55: Експерт 2, дати | F55: =(E55*D55)*1.5 -> 0 | G55: =F55/'Інформація про проєкт'!C$13 -> 0
A56: Всього | F56: =SUM(F53:F55) -> 15844.156 | G56: =F56/'Інформація про проєкт'!C$13 -> 315.62063 | H56: =SUM(H53:H55) -> 100
A58: Гонорари (ФОП 3 група)
A59: PR/SMM для заходу (прізвище, ім'я виконавця), дати | C59: 1 | D59: 1 | E59: 10000 | F59: =E59*D59 -> 10000 | G59: =F59/'Інформація про проєкт'!C$13 -> 199.20319 | H59: 200
A60: Фото/відео заходу (дати) | F60: =E60*D60 -> 0 | G60: =F60/'Інформація про проєкт'!C$13 -> 0
A61: Всього | F61: =SUM(F59:F60) -> 10000 | G61: =F61/'Інформація про проєкт'!C$13 -> 199.20319 | H61: =SUM(H59:H60) -> 200
